BEGIN:VCALENDAR
VERSION:2.0
PRODID:-//Women Aspiring to Inspire Hope - ECPv6.13.2.1//NONSGML v1.0//EN
CALSCALE:GREGORIAN
METHOD:PUBLISH
X-ORIGINAL-URL:https://thewaih.com
X-WR-CALDESC:Events for Women Aspiring to Inspire Hope
REFRESH-INTERVAL;VALUE=DURATION:PT1H
X-Robots-Tag:noindex
X-PUBLISHED-TTL:PT1H
BEGIN:VTIMEZONE
TZID:UTC
BEGIN:STANDARD
TZOFFSETFROM:+0000
TZOFFSETTO:+0000
TZNAME:UTC
DTSTART:20240101T000000
END:STANDARD
END:VTIMEZONE
BEGIN:VEVENT
DTSTART;TZID=UTC:20250117T110000
DTEND;TZID=UTC:20250117T110000
DTSTAMP:20260423T155225
CREATED:20241121T151031Z
LAST-MODIFIED:20241127T192924Z
UID:3794-1737111600-1737111600@thewaih.com
SUMMARY:WAIH's "Unleash Your Inner Strength" Wellness Workshop
DESCRIPTION:JOIN US ON JANUARY 17TH AS WE FOCUS ON THE TOPIC OF VERBAL ABUSE TOWARDS WOMEN & A SELF-DEFENSE CLASS TO EMPOWER WOMEN TO STAND UP FOR THEMSELVES! We present the WAIH “UNLEASH YOUR INNER STRENGTH” WELLNESS WORKSHOP! Get ready for an inspiring and motivating experience that will propel you towards awareness of signs of domestic violence\, specifically verbal abuse! Join us on Friday\, January 17th\, 2025 at 11:00 AM at The WAIH (7000 Central Parkway\, Sandy Springs\, Georgia 30328). This in-person event is designed to empower your Self-Worth: You will come to recognize your own value and the importance of advocating for yourself. No one is going to stand up for you\, but you. Build your self-worth and strength\, not just verbally\, but mentally as well. During this “Unleash Your Inner Strength” Wellness Workshop\, you will gain insight on the following: Inner Power: You will discover how to harness your inner power by various strategies shared by licensed therapists. Words hurt and sting more than we know. There is a great power lying within\, simply waiting to be introduced to the world.Word Power: Our words have power\, whether positive or negative. During this course\, you will learn to use the power of your words as a way to strengthen your sense of self-worth.Empower Yourself: You will learn to empower yourself beyond limits. We want to invest in you\, uplift the warrior\, and strengthen your internal by speaking words of wisdom into your life.This is more than just a lunch – it’s an investment in your safety. Don’t miss out on the chance to learn strategies and techniques for cultivating and strenghtening your inner self.Build and expand awareness of personal safety\, self-confidence and strength\, understand the psychology of self-defense\, and practice life-saving techniques: You’ll have the opportunity to learn self-defense techniques designed to keep you safe and protected.By attending\, you’re not only supporting your own growth\, but also empowering and elevating other women to value themselves first. So\, secure your spot now and get ready to be inspired\, motivated\, and ready to take action against domestic violence by properly defending yourself. *RSVP required. Join us for an unforgettable experience! Registration is ONLY $100. Secure your spots today! LEARN TO DEFEND YOURSELF AND UNLEASH YOUR INNER STRENGTH! 								\n				\n				\n				\n					\n    \n        Register Here
URL:https://thewaih.com/event/waihs-unleash-your-inner-strength-wellness-workshop/
CATEGORIES:new
ATTACH;FMTTYPE=image/png:https://thewaih.com/wp-content/uploads/2024/11/revisedeventbriteinnerstrengthnopanelists.png
END:VEVENT
BEGIN:VEVENT
DTSTART;TZID=UTC:20241019T100000
DTEND;TZID=UTC:20241019T120000
DTSTAMP:20260423T155225
CREATED:20241002T191032Z
LAST-MODIFIED:20241002T191306Z
UID:3759-1729332000-1729339200@thewaih.com
SUMMARY:Step Up for Hope: WAIH's Breast Cancer Awareness Walk
DESCRIPTION:JOIN US ON JANUARY 17TH AS WE FOCUS ON THE TOPIC OF VERBAL ABUSE TOWARDS WOMEN & A SELF-DEFENSE CLASS TO EMPOWER WOMEN TO STAND UP FOR THEMSELVES! We present the WAIH “UNLEASH YOUR INNER STRENGTH” WELLNESS WORKSHOP! Get ready for an inspiring and motivating experience that will propel you towards awareness of signs of domestic violence\, specifically verbal abuse! Join us on Friday\, January 17th\, 2025 at 11:00 AM at The WAIH (7000 Central Parkway\, Sandy Springs\, Georgia 30328). This in-person event is designed to empower your Self-Worth: You will come to recognize your own value and the importance of advocating for yourself. No one is going to stand up for you\, but you. Build your self-worth and strength\, not just verbally\, but mentally as well. During this “Unleash Your Inner Strength” Wellness Workshop\, you will gain insight on the following: Inner Power: You will discover how to harness your inner power by various strategies shared by licensed therapists. Words hurt and sting more than we know. There is a great power lying within\, simply waiting to be introduced to the world.Word Power: Our words have power\, whether positive or negative. During this course\, you will learn to use the power of your words as a way to strengthen your sense of self-worth.Empower Yourself: You will learn to empower yourself beyond limits. We want to invest in you\, uplift the warrior\, and strengthen your internal by speaking words of wisdom into your life.This is more than just a lunch – it’s an investment in your safety. Don’t miss out on the chance to learn strategies and techniques for cultivating and strenghtening your inner self.Build and expand awareness of personal safety\, self-confidence and strength\, understand the psychology of self-defense\, and practice life-saving techniques: You’ll have the opportunity to learn self-defense techniques designed to keep you safe and protected.By attending\, you’re not only supporting your own growth\, but also empowering and elevating other women to value themselves first. So\, secure your spot now and get ready to be inspired\, motivated\, and ready to take action against domestic violence by properly defending yourself. *RSVP required. Join us for an unforgettable experience! Registration is ONLY $100. Secure your spots today! LEARN TO DEFEND YOURSELF AND UNLEASH YOUR INNER STRENGTH! 								\n				\n				\n				\n					\n    \n        Register Here
URL:https://thewaih.com/event/step-up-for-hope-waihs-breast-cancer-awareness-walk/
LOCATION:Roswell Mill Waterfall
CATEGORIES:new
ATTACH;FMTTYPE=image/jpeg:https://thewaih.com/wp-content/uploads/2024/10/hopewalk.jpg
END:VEVENT
BEGIN:VEVENT
DTSTART;TZID=UTC:20240914T143000
DTEND;TZID=UTC:20240914T143000
DTSTAMP:20260423T155225
CREATED:20240816T004954Z
LAST-MODIFIED:20240916T030639Z
UID:3720-1726324200-1726324200@thewaih.com
SUMMARY:WAIH Presents "Navigating Relationship Blind Spots"
DESCRIPTION:JOIN US ON JANUARY 17TH AS WE FOCUS ON THE TOPIC OF VERBAL ABUSE TOWARDS WOMEN & A SELF-DEFENSE CLASS TO EMPOWER WOMEN TO STAND UP FOR THEMSELVES! We present the WAIH “UNLEASH YOUR INNER STRENGTH” WELLNESS WORKSHOP! Get ready for an inspiring and motivating experience that will propel you towards awareness of signs of domestic violence\, specifically verbal abuse! Join us on Friday\, January 17th\, 2025 at 11:00 AM at The WAIH (7000 Central Parkway\, Sandy Springs\, Georgia 30328). This in-person event is designed to empower your Self-Worth: You will come to recognize your own value and the importance of advocating for yourself. No one is going to stand up for you\, but you. Build your self-worth and strength\, not just verbally\, but mentally as well. During this “Unleash Your Inner Strength” Wellness Workshop\, you will gain insight on the following: Inner Power: You will discover how to harness your inner power by various strategies shared by licensed therapists. Words hurt and sting more than we know. There is a great power lying within\, simply waiting to be introduced to the world.Word Power: Our words have power\, whether positive or negative. During this course\, you will learn to use the power of your words as a way to strengthen your sense of self-worth.Empower Yourself: You will learn to empower yourself beyond limits. We want to invest in you\, uplift the warrior\, and strengthen your internal by speaking words of wisdom into your life.This is more than just a lunch – it’s an investment in your safety. Don’t miss out on the chance to learn strategies and techniques for cultivating and strenghtening your inner self.Build and expand awareness of personal safety\, self-confidence and strength\, understand the psychology of self-defense\, and practice life-saving techniques: You’ll have the opportunity to learn self-defense techniques designed to keep you safe and protected.By attending\, you’re not only supporting your own growth\, but also empowering and elevating other women to value themselves first. So\, secure your spot now and get ready to be inspired\, motivated\, and ready to take action against domestic violence by properly defending yourself. *RSVP required. Join us for an unforgettable experience! Registration is ONLY $100. Secure your spots today! LEARN TO DEFEND YOURSELF AND UNLEASH YOUR INNER STRENGTH! 								\n				\n				\n				\n					\n    \n        Register Here
URL:https://thewaih.com/event/waih-presents-navigating-relationship-blind-spots/
LOCATION:Coca-Cola Roxy\, 800 Battery Ave SE #500\, Atlanta\, 30339\, United States
CATEGORIES:new
ATTACH;FMTTYPE=image/jpeg:https://thewaih.com/wp-content/uploads/2024/08/WAIH_NBR_IG_1080x1350-1.jpg
END:VEVENT
BEGIN:VEVENT
DTSTART;TZID=UTC:20240831T100000
DTEND;TZID=UTC:20240831T130000
DTSTAMP:20260423T155225
CREATED:20240723T133720Z
LAST-MODIFIED:20240723T134057Z
UID:3713-1725098400-1725109200@thewaih.com
SUMMARY:WAIH Walk With A Doc Empowerment Hike
DESCRIPTION:JOIN US ON JANUARY 17TH AS WE FOCUS ON THE TOPIC OF VERBAL ABUSE TOWARDS WOMEN & A SELF-DEFENSE CLASS TO EMPOWER WOMEN TO STAND UP FOR THEMSELVES! We present the WAIH “UNLEASH YOUR INNER STRENGTH” WELLNESS WORKSHOP! Get ready for an inspiring and motivating experience that will propel you towards awareness of signs of domestic violence\, specifically verbal abuse! Join us on Friday\, January 17th\, 2025 at 11:00 AM at The WAIH (7000 Central Parkway\, Sandy Springs\, Georgia 30328). This in-person event is designed to empower your Self-Worth: You will come to recognize your own value and the importance of advocating for yourself. No one is going to stand up for you\, but you. Build your self-worth and strength\, not just verbally\, but mentally as well. During this “Unleash Your Inner Strength” Wellness Workshop\, you will gain insight on the following: Inner Power: You will discover how to harness your inner power by various strategies shared by licensed therapists. Words hurt and sting more than we know. There is a great power lying within\, simply waiting to be introduced to the world.Word Power: Our words have power\, whether positive or negative. During this course\, you will learn to use the power of your words as a way to strengthen your sense of self-worth.Empower Yourself: You will learn to empower yourself beyond limits. We want to invest in you\, uplift the warrior\, and strengthen your internal by speaking words of wisdom into your life.This is more than just a lunch – it’s an investment in your safety. Don’t miss out on the chance to learn strategies and techniques for cultivating and strenghtening your inner self.Build and expand awareness of personal safety\, self-confidence and strength\, understand the psychology of self-defense\, and practice life-saving techniques: You’ll have the opportunity to learn self-defense techniques designed to keep you safe and protected.By attending\, you’re not only supporting your own growth\, but also empowering and elevating other women to value themselves first. So\, secure your spot now and get ready to be inspired\, motivated\, and ready to take action against domestic violence by properly defending yourself. *RSVP required. Join us for an unforgettable experience! Registration is ONLY $100. Secure your spots today! LEARN TO DEFEND YOURSELF AND UNLEASH YOUR INNER STRENGTH! 								\n				\n				\n				\n					\n    \n        Register Here
URL:https://thewaih.com/event/waih-walk-with-a-doc-empowerment-hike-2/
CATEGORIES:new
END:VEVENT
BEGIN:VEVENT
DTSTART;TZID=UTC:20240807T110000
DTEND;TZID=UTC:20240807T130000
DTSTAMP:20260423T155225
CREATED:20240710T170923Z
LAST-MODIFIED:20240723T133619Z
UID:3697-1723028400-1723035600@thewaih.com
SUMMARY:WAIH H.E.R Billionaire Mindset Be Your Own Boss Lunch & Learn
DESCRIPTION:JOIN US ON JANUARY 17TH AS WE FOCUS ON THE TOPIC OF VERBAL ABUSE TOWARDS WOMEN & A SELF-DEFENSE CLASS TO EMPOWER WOMEN TO STAND UP FOR THEMSELVES! We present the WAIH “UNLEASH YOUR INNER STRENGTH” WELLNESS WORKSHOP! Get ready for an inspiring and motivating experience that will propel you towards awareness of signs of domestic violence\, specifically verbal abuse! Join us on Friday\, January 17th\, 2025 at 11:00 AM at The WAIH (7000 Central Parkway\, Sandy Springs\, Georgia 30328). This in-person event is designed to empower your Self-Worth: You will come to recognize your own value and the importance of advocating for yourself. No one is going to stand up for you\, but you. Build your self-worth and strength\, not just verbally\, but mentally as well. During this “Unleash Your Inner Strength” Wellness Workshop\, you will gain insight on the following: Inner Power: You will discover how to harness your inner power by various strategies shared by licensed therapists. Words hurt and sting more than we know. There is a great power lying within\, simply waiting to be introduced to the world.Word Power: Our words have power\, whether positive or negative. During this course\, you will learn to use the power of your words as a way to strengthen your sense of self-worth.Empower Yourself: You will learn to empower yourself beyond limits. We want to invest in you\, uplift the warrior\, and strengthen your internal by speaking words of wisdom into your life.This is more than just a lunch – it’s an investment in your safety. Don’t miss out on the chance to learn strategies and techniques for cultivating and strenghtening your inner self.Build and expand awareness of personal safety\, self-confidence and strength\, understand the psychology of self-defense\, and practice life-saving techniques: You’ll have the opportunity to learn self-defense techniques designed to keep you safe and protected.By attending\, you’re not only supporting your own growth\, but also empowering and elevating other women to value themselves first. So\, secure your spot now and get ready to be inspired\, motivated\, and ready to take action against domestic violence by properly defending yourself. *RSVP required. Join us for an unforgettable experience! Registration is ONLY $100. Secure your spots today! LEARN TO DEFEND YOURSELF AND UNLEASH YOUR INNER STRENGTH! 								\n				\n				\n				\n					\n    \n        Register Here
URL:https://thewaih.com/event/waih-h-e-r-billionaire-mindset-be-your-own-boss-lunch-learn/
LOCATION:The WAIH\, 7000 Central Parkway\, Sandy Springs\, GA\, 30328\, United States
CATEGORIES:new
END:VEVENT
BEGIN:VEVENT
DTSTART;TZID=UTC:20240629T100000
DTEND;TZID=UTC:20240629T100000
DTSTAMP:20260423T155225
CREATED:20240618T110009Z
LAST-MODIFIED:20240710T170515Z
UID:3682-1719655200-1719655200@thewaih.com
SUMMARY:WAIH Walk With A Doc Empowerment Hike
DESCRIPTION:JOIN US ON JANUARY 17TH AS WE FOCUS ON THE TOPIC OF VERBAL ABUSE TOWARDS WOMEN & A SELF-DEFENSE CLASS TO EMPOWER WOMEN TO STAND UP FOR THEMSELVES! We present the WAIH “UNLEASH YOUR INNER STRENGTH” WELLNESS WORKSHOP! Get ready for an inspiring and motivating experience that will propel you towards awareness of signs of domestic violence\, specifically verbal abuse! Join us on Friday\, January 17th\, 2025 at 11:00 AM at The WAIH (7000 Central Parkway\, Sandy Springs\, Georgia 30328). This in-person event is designed to empower your Self-Worth: You will come to recognize your own value and the importance of advocating for yourself. No one is going to stand up for you\, but you. Build your self-worth and strength\, not just verbally\, but mentally as well. During this “Unleash Your Inner Strength” Wellness Workshop\, you will gain insight on the following: Inner Power: You will discover how to harness your inner power by various strategies shared by licensed therapists. Words hurt and sting more than we know. There is a great power lying within\, simply waiting to be introduced to the world.Word Power: Our words have power\, whether positive or negative. During this course\, you will learn to use the power of your words as a way to strengthen your sense of self-worth.Empower Yourself: You will learn to empower yourself beyond limits. We want to invest in you\, uplift the warrior\, and strengthen your internal by speaking words of wisdom into your life.This is more than just a lunch – it’s an investment in your safety. Don’t miss out on the chance to learn strategies and techniques for cultivating and strenghtening your inner self.Build and expand awareness of personal safety\, self-confidence and strength\, understand the psychology of self-defense\, and practice life-saving techniques: You’ll have the opportunity to learn self-defense techniques designed to keep you safe and protected.By attending\, you’re not only supporting your own growth\, but also empowering and elevating other women to value themselves first. So\, secure your spot now and get ready to be inspired\, motivated\, and ready to take action against domestic violence by properly defending yourself. *RSVP required. Join us for an unforgettable experience! Registration is ONLY $100. Secure your spots today! LEARN TO DEFEND YOURSELF AND UNLEASH YOUR INNER STRENGTH! 								\n				\n				\n				\n					\n    \n        Register Here
URL:https://thewaih.com/event/waih-walk-with-a-doc-empowerment-hike/
LOCATION:Roswell Mill Waterfall
CATEGORIES:new
END:VEVENT
END:VCALENDAR